Package: standR Version: 1.11.2 Command: rm -rf standR.buildbin-libdir && mkdir standR.buildbin-libdir && E:\biocbuild\bbs-3.21-bioc\R\bin\R.exe CMD INSTALL --build --library=standR.buildbin-libdir standR_1.11.2.tar.gz StartedAt: 2025-02-10 08:48:56 -0500 (Mon, 10 Feb 2025) EndedAt: 2025-02-10 08:49:35 -0500 (Mon, 10 Feb 2025) EllapsedTime: 38.5 seconds RetCode: 0 Status: OK PackageFile: standR_1.11.2.zip PackageFileSize: 2.11 MiB