Package: standR Version: 1.11.2 Command: chmod a+r standR -R && E:\biocbuild\bbs-3.21-bioc\R\bin\R.exe CMD build --keep-empty-dirs --no-resave-data standR StartedAt: 2025-02-09 21:57:14 -0500 (Sun, 09 Feb 2025) EndedAt: 2025-02-09 21:59:22 -0500 (Sun, 09 Feb 2025) EllapsedTime: 128.0 seconds RetCode: 0 Status: OK PackageFile: standR_1.11.2.tar.gz PackageFileSize: 2.002 MiB