Package: statTarget Version: 1.37.0 Command: /Library/Frameworks/R.framework/Resources/bin/R CMD build --keep-empty-dirs --no-resave-data statTarget StartedAt: 2025-02-12 17:45:30 -0500 (Wed, 12 Feb 2025) EndedAt: 2025-02-12 17:45:36 -0500 (Wed, 12 Feb 2025) EllapsedTime: 5.1 seconds RetCode: 0 Status: OK PackageFile: statTarget_1.37.0.tar.gz PackageFileSize: 779.1 KiB