Package: statTarget Version: 1.37.0 Command: rm -rf statTarget.buildbin-libdir && mkdir statTarget.buildbin-libdir && /Users/biocbuild/BBS/utils/build-universal.sh statTarget_1.37.0.tar.gz /Library/Frameworks/R.framework/Resources/bin/R statTarget.buildbin-libdir StartedAt: 2025-02-10 01:19:10 -0500 (Mon, 10 Feb 2025) EndedAt: 2025-02-10 01:19:21 -0500 (Mon, 10 Feb 2025) EllapsedTime: 11.7 seconds RetCode: 0 Status: OK PackageFile: statTarget_1.37.0.tgz PackageFileSize: 972.6 KiB