Package: statTarget Version: 1.37.0 Command: /Library/Frameworks/R.framework/Resources/bin/R CMD INSTALL statTarget StartedAt: 2025-02-12 15:07:45 -0500 (Wed, 12 Feb 2025) EndedAt: 2025-02-12 15:08:13 -0500 (Wed, 12 Feb 2025) EllapsedTime: 28.4 seconds RetCode: 0 Status: OK