Package: statTarget Version: 1.37.0 Command: /home/biocbuild/bbs-3.21-bioc/R/bin/R CMD build --keep-empty-dirs --no-resave-data statTarget StartedAt: 2025-02-09 19:29:45 -0500 (Sun, 09 Feb 2025) EndedAt: 2025-02-09 19:29:54 -0500 (Sun, 09 Feb 2025) EllapsedTime: 9.0 seconds RetCode: 0 Status: OK PackageFile: statTarget_1.37.0.tar.gz PackageFileSize: 779.1 KiB