Package: statTarget Version: 1.37.0 Command: rm -rf statTarget.buildbin-libdir && mkdir statTarget.buildbin-libdir && E:\biocbuild\bbs-3.21-bioc\R\bin\R.exe CMD INSTALL --build --library=statTarget.buildbin-libdir statTarget_1.37.0.tar.gz StartedAt: 2025-02-13 08:59:39 -0500 (Thu, 13 Feb 2025) EndedAt: 2025-02-13 09:00:12 -0500 (Thu, 13 Feb 2025) EllapsedTime: 32.8 seconds RetCode: 0 Status: OK PackageFile: statTarget_1.37.0.zip PackageFileSize: 976.2 KiB