Package: stepNorm Version: 1.79.0 Maintainer: Yuanyuan Xiao MaintainerEmail: yxiao at itsa.ucsf.edu git_url: https://git.bioconductor.org/packages/stepNorm git_branch: devel git_last_commit: c5798e7 git_last_commit_date: 2024-10-29 09:23:42 -0500 (Tue, 29 Oct 2024)