Package: stepNorm Version: 1.79.0 Command: rm -rf stepNorm.buildbin-libdir && mkdir stepNorm.buildbin-libdir && /Users/biocbuild/BBS/utils/build-universal.sh stepNorm_1.79.0.tar.gz /Library/Frameworks/R.framework/Resources/bin/R stepNorm.buildbin-libdir StartedAt: 2025-02-10 01:19:10 -0500 (Mon, 10 Feb 2025) EndedAt: 2025-02-10 01:19:17 -0500 (Mon, 10 Feb 2025) EllapsedTime: 7.0 seconds RetCode: 0 Status: OK PackageFile: stepNorm_1.79.0.tgz PackageFileSize: 553.7 KiB