Package: stepNorm Version: 1.79.0 Command: /Library/Frameworks/R.framework/Resources/bin/R CMD build --keep-empty-dirs --no-resave-data stepNorm StartedAt: 2025-02-12 18:30:27 -0500 (Wed, 12 Feb 2025) EndedAt: 2025-02-12 18:30:29 -0500 (Wed, 12 Feb 2025) EllapsedTime: 2.3 seconds RetCode: 0 Status: OK PackageFile: stepNorm_1.79.0.tar.gz PackageFileSize: 460.1 KiB