Package: stepNorm Version: 1.79.0 Command: /Library/Frameworks/R.framework/Resources/bin/R CMD check --install=check:stepNorm.install-out.txt --library=/Library/Frameworks/R.framework/Resources/library --no-vignettes --timings stepNorm_1.79.0.tar.gz StartedAt: 2025-02-09 23:57:20 -0500 (Sun, 09 Feb 2025) EndedAt: 2025-02-09 23:58:37 -0500 (Sun, 09 Feb 2025) EllapsedTime: 76.7 seconds RetCode: 0 Status: OK CheckDir: stepNorm.Rcheck Warnings: 0