Package: stepNorm Version: 1.79.0 Command: /home/biocbuild/bbs-3.21-bioc/R/bin/R CMD build --keep-empty-dirs --no-resave-data stepNorm StartedAt: 2025-02-09 19:29:54 -0500 (Sun, 09 Feb 2025) EndedAt: 2025-02-09 19:29:55 -0500 (Sun, 09 Feb 2025) EllapsedTime: 1.0 seconds RetCode: 0 Status: OK PackageFile: stepNorm_1.79.0.tar.gz PackageFileSize: 460.1 KiB