Package: stepNorm Version: 1.79.0 Command: /home/biocbuild/bbs-3.21-bioc/R/bin/R CMD check --install=check:stepNorm.install-out.txt --library=/home/biocbuild/bbs-3.21-bioc/R/site-library --timings stepNorm_1.79.0.tar.gz StartedAt: 2025-02-10 03:07:48 -0500 (Mon, 10 Feb 2025) EndedAt: 2025-02-10 03:08:55 -0500 (Mon, 10 Feb 2025) EllapsedTime: 67.1 seconds RetCode: 0 Status: OK CheckDir: stepNorm.Rcheck Warnings: 0