Package: stepNorm Version: 1.79.0 Command: /home/biocbuild/bbs-3.21-bioc/R/bin/R CMD INSTALL stepNorm StartedAt: 2025-02-09 15:04:12 -0500 (Sun, 09 Feb 2025) EndedAt: 2025-02-09 15:04:32 -0500 (Sun, 09 Feb 2025) EllapsedTime: 19.9 seconds RetCode: 0 Status: OK