Package: stepNorm Version: 1.79.0 Command: rm -rf stepNorm.buildbin-libdir && mkdir stepNorm.buildbin-libdir && E:\biocbuild\bbs-3.21-bioc\R\bin\R.exe CMD INSTALL --build --library=stepNorm.buildbin-libdir stepNorm_1.79.0.tar.gz StartedAt: 2025-02-10 08:49:02 -0500 (Mon, 10 Feb 2025) EndedAt: 2025-02-10 08:49:18 -0500 (Mon, 10 Feb 2025) EllapsedTime: 16.1 seconds RetCode: 0 Status: OK PackageFile: stepNorm_1.79.0.zip PackageFileSize: 549.2 KiB