Package: stepNorm Version: 1.79.0 Command: chmod a+r stepNorm -R && E:\biocbuild\bbs-3.21-bioc\R\bin\R.exe CMD build --keep-empty-dirs --no-resave-data stepNorm StartedAt: 2025-02-09 21:57:31 -0500 (Sun, 09 Feb 2025) EndedAt: 2025-02-09 21:57:34 -0500 (Sun, 09 Feb 2025) EllapsedTime: 3.0 seconds RetCode: 0 Status: OK PackageFile: stepNorm_1.79.0.tar.gz PackageFileSize: 460.1 KiB