Package: stepNorm Version: 1.79.0 Command: E:\biocbuild\bbs-3.21-bioc\R\bin\R.exe CMD INSTALL stepNorm StartedAt: 2025-02-09 15:28:23 -0500 (Sun, 09 Feb 2025) EndedAt: 2025-02-09 15:28:45 -0500 (Sun, 09 Feb 2025) EllapsedTime: 22.1 seconds RetCode: 0 Status: OK