Package: strandCheckR Version: 1.25.0 Command: rm -rf strandCheckR.buildbin-libdir && mkdir strandCheckR.buildbin-libdir && /Users/biocbuild/BBS/utils/build-universal.sh strandCheckR_1.25.0.tar.gz /Library/Frameworks/R.framework/Resources/bin/R strandCheckR.buildbin-libdir StartedAt: 2025-02-09 22:32:39 -0500 (Sun, 09 Feb 2025) EndedAt: 2025-02-09 22:32:54 -0500 (Sun, 09 Feb 2025) EllapsedTime: 15.4 seconds RetCode: 0 Status: OK PackageFile: strandCheckR_1.25.0.tgz PackageFileSize: 1.297 MiB