Package: strandCheckR Version: 1.25.0 Command: /Library/Frameworks/R.framework/Resources/bin/R CMD build --keep-empty-dirs --no-resave-data strandCheckR StartedAt: 2025-02-04 18:29:46 -0500 (Tue, 04 Feb 2025) EndedAt: 2025-02-04 18:30:53 -0500 (Tue, 04 Feb 2025) EllapsedTime: 67.2 seconds RetCode: 0 Status: OK PackageFile: strandCheckR_1.25.0.tar.gz PackageFileSize: 1.211 MiB