Package: strandCheckR Version: 1.25.0 Command: /home/biocbuild/bbs-3.21-bioc/R/bin/R CMD check --install=check:strandCheckR.install-out.txt --library=/home/biocbuild/bbs-3.21-bioc/R/site-library --timings strandCheckR_1.25.0.tar.gz StartedAt: 2025-02-10 03:08:54 -0500 (Mon, 10 Feb 2025) EndedAt: 2025-02-10 03:13:41 -0500 (Mon, 10 Feb 2025) EllapsedTime: 287.4 seconds RetCode: 0 Status: OK CheckDir: strandCheckR.Rcheck Warnings: 0