Package: strandCheckR Version: 1.25.0 Command: chmod a+r strandCheckR -R && E:\biocbuild\bbs-3.21-bioc\R\bin\R.exe CMD build --keep-empty-dirs --no-resave-data strandCheckR StartedAt: 2025-02-04 21:59:23 -0500 (Tue, 04 Feb 2025) EndedAt: 2025-02-04 22:00:50 -0500 (Tue, 04 Feb 2025) EllapsedTime: 87.1 seconds RetCode: 0 Status: OK PackageFile: strandCheckR_1.25.0.tar.gz PackageFileSize: 848.9 KiB