Package: structToolbox Version: 1.19.1 Maintainer: Gavin Rhys Lloyd MaintainerEmail: g.r.lloyd at bham.ac.uk git_url: https://git.bioconductor.org/packages/structToolbox git_branch: devel git_last_commit: 6714233 git_last_commit_date: 2025-01-28 04:25:47 -0500 (Tue, 28 Jan 2025)