Package: structToolbox Version: 1.19.1 Command: rm -rf structToolbox.buildbin-libdir && mkdir structToolbox.buildbin-libdir && /Users/biocbuild/BBS/utils/build-universal.sh structToolbox_1.19.1.tar.gz /Library/Frameworks/R.framework/Resources/bin/R structToolbox.buildbin-libdir StartedAt: 2025-02-04 22:34:28 -0500 (Tue, 04 Feb 2025) EndedAt: 2025-02-04 22:34:44 -0500 (Tue, 04 Feb 2025) EllapsedTime: 15.3 seconds RetCode: 0 Status: OK PackageFile: structToolbox_1.19.1.tgz PackageFileSize: 5.603 MiB