Package: structToolbox Version: 1.19.1 Command: /Library/Frameworks/R.framework/Resources/bin/R CMD build --keep-empty-dirs --no-resave-data structToolbox StartedAt: 2025-02-04 17:45:27 -0500 (Tue, 04 Feb 2025) EndedAt: 2025-02-04 17:48:51 -0500 (Tue, 04 Feb 2025) EllapsedTime: 204.3 seconds RetCode: 0 Status: OK PackageFile: structToolbox_1.19.1.tar.gz PackageFileSize: 4.906 MiB