Package: structToolbox Version: 1.19.1 Command: /Library/Frameworks/R.framework/Resources/bin/R CMD INSTALL structToolbox StartedAt: 2025-02-04 15:06:18 -0500 (Tue, 04 Feb 2025) EndedAt: 2025-02-04 15:06:32 -0500 (Tue, 04 Feb 2025) EllapsedTime: 14.5 seconds RetCode: 0 Status: OK