Package: structToolbox Version: 1.19.1 Command: /Library/Frameworks/R.framework/Resources/bin/R CMD INSTALL structToolbox StartedAt: 2025-02-09 15:10:48 -0500 (Sun, 09 Feb 2025) EndedAt: 2025-02-09 15:11:45 -0500 (Sun, 09 Feb 2025) EllapsedTime: 56.4 seconds RetCode: 0 Status: OK