Package: structToolbox Version: 1.19.1 Command: /home/biocbuild/bbs-3.21-bioc/R/bin/R CMD build --keep-empty-dirs --no-resave-data structToolbox StartedAt: 2025-02-09 19:30:24 -0500 (Sun, 09 Feb 2025) EndedAt: 2025-02-09 19:41:04 -0500 (Sun, 09 Feb 2025) EllapsedTime: 640.2 seconds RetCode: 0 Status: OK PackageFile: structToolbox_1.19.1.tar.gz PackageFileSize: 4.735 MiB