Package: structToolbox Version: 1.19.1 Command: rm -rf structToolbox.buildbin-libdir && mkdir structToolbox.buildbin-libdir && E:\biocbuild\bbs-3.21-bioc\R\bin\R.exe CMD INSTALL --build --library=structToolbox.buildbin-libdir structToolbox_1.19.1.tar.gz StartedAt: 2025-02-10 08:49:12 -0500 (Mon, 10 Feb 2025) EndedAt: 2025-02-10 08:52:04 -0500 (Mon, 10 Feb 2025) EllapsedTime: 172.5 seconds RetCode: 0 Status: OK PackageFile: structToolbox_1.19.1.zip PackageFileSize: 4.106 MiB