Package: structToolbox Version: 1.19.1 Command: chmod a+r structToolbox -R && E:\biocbuild\bbs-3.21-bioc\R\bin\R.exe CMD build --keep-empty-dirs --no-resave-data structToolbox StartedAt: 2025-02-03 22:10:29 -0500 (Mon, 03 Feb 2025) EndedAt: 2025-02-03 22:24:33 -0500 (Mon, 03 Feb 2025) EllapsedTime: 843.9 seconds RetCode: 0 Status: OK PackageFile: structToolbox_1.19.1.tar.gz PackageFileSize: 3.413 MiB