Package: supersigs Version: 1.15.0 Command: rm -rf supersigs.buildbin-libdir && mkdir supersigs.buildbin-libdir && /Users/biocbuild/BBS/utils/build-universal.sh supersigs_1.15.0.tar.gz /Library/Frameworks/R.framework/Resources/bin/R supersigs.buildbin-libdir StartedAt: 2025-02-09 22:32:46 -0500 (Sun, 09 Feb 2025) EndedAt: 2025-02-09 22:33:00 -0500 (Sun, 09 Feb 2025) EllapsedTime: 14.3 seconds RetCode: 0 Status: OK PackageFile: supersigs_1.15.0.tgz PackageFileSize: 5.412 MiB