Package: supersigs Version: 1.15.0 Command: /Library/Frameworks/R.framework/Resources/bin/R CMD build --keep-empty-dirs --no-resave-data supersigs StartedAt: 2025-02-09 17:45:30 -0500 (Sun, 09 Feb 2025) EndedAt: 2025-02-09 17:45:55 -0500 (Sun, 09 Feb 2025) EllapsedTime: 25.3 seconds RetCode: 0 Status: OK PackageFile: supersigs_1.15.0.tar.gz PackageFileSize: 2.597 MiB