Package: supersigs Version: 1.15.0 Command: /Library/Frameworks/R.framework/Resources/bin/R CMD INSTALL supersigs StartedAt: 2025-02-09 15:23:54 -0500 (Sun, 09 Feb 2025) EndedAt: 2025-02-09 15:24:07 -0500 (Sun, 09 Feb 2025) EllapsedTime: 13.0 seconds RetCode: 0 Status: OK