Package: supersigs Version: 1.15.0 Command: /home/biocbuild/R/R/bin/R CMD build --keep-empty-dirs --no-resave-data supersigs StartedAt: 2025-01-28 02:48:00 -0000 (Tue, 28 Jan 2025) EndedAt: 2025-01-28 02:49:29 -0000 (Tue, 28 Jan 2025) EllapsedTime: 89.0 seconds RetCode: 0 Status: OK PackageFile: supersigs_1.15.0.tar.gz PackageFileSize: 2.589 MiB