Package: supersigs Version: 1.15.0 Command: /home/biocbuild/R/R/bin/R CMD INSTALL supersigs StartedAt: 2025-01-29 20:25:24 -0000 (Wed, 29 Jan 2025) EndedAt: 2025-01-29 20:26:08 -0000 (Wed, 29 Jan 2025) EllapsedTime: 44.0 seconds RetCode: 0 Status: OK