Package: supersigs Version: 1.15.0 Command: /Library/Frameworks/R.framework/Resources/bin/R CMD check --install=check:supersigs.install-out.txt --library=/Library/Frameworks/R.framework/Resources/library --no-vignettes --timings supersigs_1.15.0.tar.gz StartedAt: 2025-02-09 23:59:14 -0500 (Sun, 09 Feb 2025) EndedAt: 2025-02-10 00:04:18 -0500 (Mon, 10 Feb 2025) EllapsedTime: 304.2 seconds RetCode: 0 Status: OK CheckDir: supersigs.Rcheck Warnings: 0