Package: supersigs Version: 1.15.0 Command: rm -rf supersigs.buildbin-libdir && mkdir supersigs.buildbin-libdir && E:\biocbuild\bbs-3.21-bioc\R\bin\R.exe CMD INSTALL --build --library=supersigs.buildbin-libdir supersigs_1.15.0.tar.gz StartedAt: 2025-02-10 08:49:30 -0500 (Mon, 10 Feb 2025) EndedAt: 2025-02-10 08:50:23 -0500 (Mon, 10 Feb 2025) EllapsedTime: 53.2 seconds RetCode: 0 Status: OK PackageFile: supersigs_1.15.0.zip PackageFileSize: 5.403 MiB