Package: supersigs Version: 1.15.0 Command: chmod a+r supersigs -R && E:\biocbuild\bbs-3.21-bioc\R\bin\R.exe CMD build --keep-empty-dirs --no-resave-data supersigs StartedAt: 2025-02-09 21:59:18 -0500 (Sun, 09 Feb 2025) EndedAt: 2025-02-09 22:00:56 -0500 (Sun, 09 Feb 2025) EllapsedTime: 97.9 seconds RetCode: 0 Status: OK PackageFile: supersigs_1.15.0.tar.gz PackageFileSize: 2.586 MiB