Package: supersigs Version: 1.15.0 Command: E:\biocbuild\bbs-3.21-bioc\R\bin\R.exe CMD INSTALL supersigs StartedAt: 2025-02-09 16:49:21 -0500 (Sun, 09 Feb 2025) EndedAt: 2025-02-09 16:50:16 -0500 (Sun, 09 Feb 2025) EllapsedTime: 54.8 seconds RetCode: 0 Status: OK