Package: supraHex Version: 1.45.1 Command: /Library/Frameworks/R.framework/Resources/bin/R CMD build --keep-empty-dirs --no-resave-data supraHex StartedAt: 2025-02-09 17:45:37 -0500 (Sun, 09 Feb 2025) EndedAt: 2025-02-09 17:45:42 -0500 (Sun, 09 Feb 2025) EllapsedTime: 5.1 seconds RetCode: 1 Status: ERROR PackageFile: None PackageFileSize: NA