Package: supraHex Version: 1.45.1 Command: /Library/Frameworks/R.framework/Resources/bin/R CMD INSTALL supraHex StartedAt: 2025-02-09 15:13:16 -0500 (Sun, 09 Feb 2025) EndedAt: 2025-02-09 15:13:19 -0500 (Sun, 09 Feb 2025) EllapsedTime: 3.3 seconds RetCode: 0 Status: OK