Package: supraHex Version: 1.45.1 Command: /home/biocbuild/R/R/bin/R CMD INSTALL supraHex StartedAt: 2025-01-29 20:01:17 -0000 (Wed, 29 Jan 2025) EndedAt: 2025-01-29 20:01:28 -0000 (Wed, 29 Jan 2025) EllapsedTime: 11.2 seconds RetCode: 0 Status: OK