Package: supraHex Version: 1.45.1 Command: /Library/Frameworks/R.framework/Resources/bin/R CMD build --keep-empty-dirs --no-resave-data supraHex StartedAt: 2025-02-09 18:39:37 -0500 (Sun, 09 Feb 2025) EndedAt: 2025-02-09 18:39:51 -0500 (Sun, 09 Feb 2025) EllapsedTime: 13.7 seconds RetCode: 1 Status: ERROR PackageFile: None PackageFileSize: NA