Package: supraHex Version: 1.45.1 Command: chmod a+r supraHex -R && E:\biocbuild\bbs-3.21-bioc\R\bin\R.exe CMD build --keep-empty-dirs --no-resave-data supraHex StartedAt: 2025-02-09 21:59:23 -0500 (Sun, 09 Feb 2025) EndedAt: 2025-02-09 21:59:51 -0500 (Sun, 09 Feb 2025) EllapsedTime: 27.8 seconds RetCode: 1 Status: ERROR PackageFile: None PackageFileSize: NA