Package: survClust Version: 1.1.0 Command: rm -rf survClust.buildbin-libdir && mkdir survClust.buildbin-libdir && /Users/biocbuild/BBS/utils/build-universal.sh survClust_1.1.0.tar.gz /Library/Frameworks/R.framework/Resources/bin/R survClust.buildbin-libdir StartedAt: 2025-02-09 22:32:48 -0500 (Sun, 09 Feb 2025) EndedAt: 2025-02-09 22:33:00 -0500 (Sun, 09 Feb 2025) EllapsedTime: 12.3 seconds RetCode: 0 Status: OK PackageFile: survClust_1.1.0.tgz PackageFileSize: 764.8 KiB