Package: survClust Version: 1.1.0 Command: /home/biocbuild/R/R/bin/R CMD build --keep-empty-dirs --no-resave-data survClust StartedAt: 2025-01-28 02:48:54 -0000 (Tue, 28 Jan 2025) EndedAt: 2025-01-28 02:51:38 -0000 (Tue, 28 Jan 2025) EllapsedTime: 164.1 seconds RetCode: 0 Status: OK PackageFile: survClust_1.1.0.tar.gz PackageFileSize: 665.2 KiB