Package: survClust Version: 1.1.0 Command: /home/biocbuild/bbs-3.21-bioc/R/bin/R CMD check --install=check:survClust.install-out.txt --library=/home/biocbuild/bbs-3.21-bioc/R/site-library --timings survClust_1.1.0.tar.gz StartedAt: 2025-02-13 03:11:36 -0500 (Thu, 13 Feb 2025) EndedAt: 2025-02-13 03:14:24 -0500 (Thu, 13 Feb 2025) EllapsedTime: 168.2 seconds RetCode: 0 Status: WARNINGS CheckDir: survClust.Rcheck Warnings: 1