Package: survClust Version: 1.1.0 Command: rm -rf survClust.buildbin-libdir && mkdir survClust.buildbin-libdir && E:\biocbuild\bbs-3.21-bioc\R\bin\R.exe CMD INSTALL --build --library=survClust.buildbin-libdir survClust_1.1.0.tar.gz StartedAt: 2025-02-10 08:49:35 -0500 (Mon, 10 Feb 2025) EndedAt: 2025-02-10 08:50:13 -0500 (Mon, 10 Feb 2025) EllapsedTime: 38.2 seconds RetCode: 0 Status: OK PackageFile: survClust_1.1.0.zip PackageFileSize: 972.2 KiB