Package: survcomp Version: 1.57.0 Maintainer: Benjamin Haibe-Kains MaintainerEmail: benjamin.haibe.kains at utoronto.ca git_url: https://git.bioconductor.org/packages/survcomp git_branch: devel git_last_commit: d938b84 git_last_commit_date: 2024-10-29 09:36:33 -0500 (Tue, 29 Oct 2024)