Package: survcomp Version: 1.57.0 Command: /Library/Frameworks/R.framework/Resources/bin/R CMD check --install=check:survcomp.install-out.txt --library=/Library/Frameworks/R.framework/Resources/library --no-vignettes --timings survcomp_1.57.0.tar.gz StartedAt: 2025-02-09 21:39:36 -0500 (Sun, 09 Feb 2025) EndedAt: 2025-02-09 21:40:01 -0500 (Sun, 09 Feb 2025) EllapsedTime: 24.3 seconds RetCode: 0 Status: WARNINGS CheckDir: survcomp.Rcheck Warnings: 1