Package: survcomp Version: 1.57.0 Command: /Library/Frameworks/R.framework/Resources/bin/R CMD build --keep-empty-dirs --no-resave-data survcomp StartedAt: 2025-02-09 18:39:51 -0500 (Sun, 09 Feb 2025) EndedAt: 2025-02-09 18:40:16 -0500 (Sun, 09 Feb 2025) EllapsedTime: 25.1 seconds RetCode: 0 Status: OK PackageFile: survcomp_1.57.0.tar.gz PackageFileSize: 638.3 KiB